BEGIN:VCALENDAR
VERSION:2.0
PRODID:-//hacksw/handcal//NONSGML v1.0//EN
CALSCALE:GREGORIAN
BEGIN:VEVENT
DTEND:20260319T163000Z
UID:37101773936000
DTSTAMP:20260419T130158Z
LOCATION:Council Chambers\, 111 E. Jefferson St.
DESCRIPTION:Board of Public Works and Safety (Claims Only)
URL;VALUE=URI:https://goshen.in.gov
SUMMARY:Board of Public Works and Safety (Claims Only)
DTSTART:20260319T160000Z
END:VEVENT
END:VCALENDAR
